BEGIN:VCALENDAR
VERSION:2.0
PRODID:spatie/icalendar-generator
DESCRIPTION:Events from Town of Cedar Lake
X-WR-CALDESC:Events from Town of Cedar Lake
REFRESH-INTERVAL;VALUE=DURATION:PT1440M
X-PUBLISHED-TTL:PT1440M
BEGIN:VTIMEZONE
TZID:America/Chicago
BEGIN:STANDARD
DTSTART:20251102T020000Z
TZOFFSETFROM:-0500
TZOFFSETTO:-0600
END:STANDARD
BEGIN:DAYLIGHT
DTSTART:20260308T020000Z
TZOFFSETFROM:-0600
TZOFFSETTO:-0500
END:DAYLIGHT
END:VTIMEZONE
BEGIN:VTIMEZONE
TZID:UTC
BEGIN:STANDARD
DTSTART:20250729T155300Z
TZOFFSETFROM:+0000
TZOFFSETTO:+0000
END:STANDARD
END:VTIMEZONE
BEGIN:VEVENT
UID:153-138
DTSTAMP:20260425T155300Z
SUMMARY:Arbor Day Celebration
LOCATION:Lions Den Shelter on the Lakefront 7408 Constitution Ave  Cedar La
 ke IN 46303
ORGANIZER;CN=_:MAILTO:cliff.wroe@cedarlakein.gov
DTSTART;TZID=America/Chicago:20260424T170000
DTEND;TZID=America/Chicago:20260424T180000
X-ALT-DESC;FMTTYPE=TEXT/HTML:Join the Cedar Lake Tree Board for our Arbor D
 ay Celebration! We'll be planting a donated tree courtesy of Leo's of Ceda
 r Lake and distributing free native tree seedlings while supplies last. Al
 l are welcome.
CATEGORIES:Parks and Recreation
URL;VALUE=URI:https://cedarlakein.gov/mc-events/arbor-day-celebration/
METHOD:PUBLISH
END:VEVENT
END:VCALENDAR